Workbook

Sheet Отчёт
A1: Спутник | B1: =Данные!B1 -> 15 | C1: Зона | D1: =Данные!D1 -> 2494.5947 | E1: км | G1: Отклонение, % | N1: Корреляция | S1: Корреляция
A2: № | C2: H-He | D2: О2 | E2: E | F2: Etemp | G2: H-He | H2: О2 | I2: E | J2: Etemp | N2: =Данные!A170 -> R= | O2: =Данные!B170 -> 2494.5947 | P2: =Данные!C170 -> H-He | S2: =Данные!A146 -> R= | T2: =Данные!B146 -> 1000 | U2: =Данные!C146 -> H-He
A3: =Данные!A3 -> 1 | B3: =Данные!B3 -> 43113 | C3: =Данные!C3 -> 2244.9024 | D3: =Данные!D3 -> 3921.7325 | E3: =Данные!E3 -> 10259.743 | F3: =Данные!F3 -> 3047.4751 | G3: =Данные!G3 -> 0 | H3: =Данные!H3 -> 0 | ... J3: =Данные!J3 -> 0 | O3: =Данные!B171 -> F-15 | P3: =Данные!C171 -> F-16 | Q3: =Данные!D171 -> F-17 | R3: =Данные!E171 -> F-18 | T3: =Данные!B147 -> F-15 | U3: =Данные!C147 -> F-16 | V3: =Данные!D147 -> F-17 | W3: =Данные!E147 -> F-18
A4: =Данные!A4 -> 2 | B4: =Данные!B4 -> 43114 | C4: =Данные!C4 -> 2156.4929 | D4: =Данные!D4 -> 3665.7745 | E4: =Данные!E4 -> 10971.306 | F4: =Данные!F4 -> 3063.9567 | G4: =Данные!G4 -> 0 | H4: =Данные!H4 -> 0 | ... J4: =Данные!J4 -> 0 | N4: =Данные!A172 -> F-15 | O4: =Данные!B172 -> 1 | P4: =Данные!C172 -> 0.41642 | Q4: =Данные!D172 -> 0.44982 | R4: =Данные!E172 -> 0.55314 | S4: =Данные!A148 -> F-15 | T4: =Данные!B148 -> 1 | U4: =Данные!C148 -> 0.012283 | V4: =Данные!D148 -> -0.29607 | W4: =Данные!E148 -> 0.068348
A5: =Данные!A5 -> 3 | B5: =Данные!B5 -> 43115 | C5: =Данные!C5 -> 2008.8754 | D5: =Данные!D5 -> 4288.5817 | E5: =Данные!E5 -> 9564.4511 | F5: =Данные!F5 -> 3084.5981 | G5: =Данные!G5 -> 0 | H5: =Данные!H5 -> 0 | ... J5: =Данные!J5 -> 0 | N5: =Данные!A173 -> F-16 | O5: =Данные!B173 -> 0.41642 | P5: =Данные!C173 -> 1 | Q5: =Данные!D173 -> 0.86828 | R5: =Данные!E173 -> 0.90538 | S5: =Данные!A149 -> F-16 | T5: =Данные!B149 -> 0.012283 | U5: =Данные!C149 -> 1 | V5: =Данные!D149 -> 0.49873 | W5: =Данные!E149 -> 0.47433
A6: =Данные!A6 -> 4 | B6: =Данные!B6 -> 43116 | C6: =Данные!C6 -> 2063.3039 | D6: =Данные!D6 -> 3856.897 | E6: =Данные!E6 -> 9782.8573 | F6: =Данные!F6 -> 3426.8708 | G6: =Данные!G6 -> 0 | H6: =Данные!H6 -> 0 | ... J6: =Данные!J6 -> 0 | N6: =Данные!A174 -> F-17 | O6: =Данные!B174 -> 0.44982 | P6: =Данные!C174 -> 0.86828 | Q6: =Данные!D174 -> 1 | R6: =Данные!E174 -> 0.94935 | S6: =Данные!A150 -> F-17 | T6: =Данные!B150 -> -0.29607 | U6: =Данные!C150 -> 0.49873 | V6: =Данные!D150 -> 1 | W6: =Данные!E150 -> 0.81689
A7: =Данные!A7 -> 5 | B7: =Данные!B7 -> 43117 | C7: =Данные!C7 -> 2256.1997 | D7: =Данные!D7 -> 4237.4455 | E7: =Данные!E7 -> 10258.911 | F7: =Данные!F7 -> 3679.7531 | G7: =Данные!G7 -> 0 | H7: =Данные!H7 -> 0 | ... J7: =Данные!J7 -> 0 | N7: =Данные!A175 -> F-18 | O7: =Данные!B175 -> 0.55314 | P7: =Данные!C175 -> 0.90538 | Q7: =Данные!D175 -> 0.94935 | R7: =Данные!E175 -> 1 | S7: =Данные!A151 -> F-18 | T7: =Данные!B151 -> 0.068348 | U7: =Данные!C151 -> 0.47433 | V7: =Данные!D151 -> 0.81689 | W7: =Данные!E151 -> 1
A8: =Данные!A8 -> 6 | B8: =Данные!B8 -> 43118 | C8: =Данные!C8 -> 3036.8328 | D8: =Данные!D8 -> 4343.8438 | E8: =Данные!E8 -> 12275.633 | F8: =Данные!F8 -> 3191.5789 | G8: =Данные!G8 -> 0 | H8: =Данные!H8 -> 0 | ... J8: =Данные!J8 -> 0 | N8: =Данные!A176 -> R= | O8: =Данные!B176 -> 2494.5947 | P8: =Данные!C176 -> O2 | S8: =Данные!A152 -> R= | T8: =Данные!B152 -> 1000 | U8: =Данные!C152 -> O2
A9: =Данные!A9 -> 7 | B9: =Данные!B9 -> 43119 | C9: =Данные!C9 -> 3180.3419 | D9: =Данные!D9 -> 4080.2705 | E9: =Данные!E9 -> 10828.047 | F9: =Данные!F9 -> 3142.0962 | G9: =Данные!G9 -> 0 | H9: =Данные!H9 -> 0 | ... J9: =Данные!J9 -> 0 | N9: =Данные!A177 -> 0 | O9: =Данные!B177 -> F-15 | P9: =Данные!C177 -> F-16 | Q9: =Данные!D177 -> F-17 | R9: =Данные!E177 -> F-18 | T9: =Данные!B153 -> F-15 | U9: =Данные!C153 -> F-16 | V9: =Данные!D153 -> F-17 | W9: =Данные!E153 -> F-18
A10: =Данные!A10 -> 8 | B10: =Данные!B10 -> 43120 | C10: =Данные!C10 -> 2057.1208 | D10: =Данные!D10 -> 3897.6486 | E10: =Данные!E10 -> 9679.7374 | F10: =Данные!F10 -> 3242.1244 | G10: =Данные!G10 -> 0 | H10: =Данные!H10 -> 0 | ... J10: =Данные!J10 -> 0 | N10: =Данные!A178 -> F-15 | O10: =Данные!B178 -> 1 | P10: =Данные!C178 -> 0.55987 | Q10: =Данные!D178 -> -0.11711 | R10: =Данные!E178 -> 0.1194 | S10: =Данные!A154 -> F-15 | T10: =Данные!B154 -> 1 | U10: =Данные!C154 -> 0.21802 | V10: =Данные!D154 -> -0.26602 | W10: =Данные!E154 -> -0.13553
A11: =Данные!A11 -> 9 | B11: =Данные!B11 -> 43121 | C11: =Данные!C11 -> 2513.787 | D11: =Данные!D11 -> 4182.7658 | E11: =Данные!E11 -> 10352.522 | F11: =Данные!F11 -> 3326.972 | G11: =Данные!G11 -> 0 | H11: =Данные!H11 -> 0 | ... J11: =Данные!J11 -> 0 | N11: =Данные!A179 -> F-16 | O11: =Данные!B179 -> 0.55987 | P11: =Данные!C179 -> 1 | Q11: =Данные!D179 -> 0.53853 | R11: =Данные!E179 -> 0.68232 | S11: =Данные!A155 -> F-16 | T11: =Данные!B155 -> 0.21802 | U11: =Данные!C155 -> 1 | V11: =Данные!D155 -> 0.087335 | W11: =Данные!E155 -> 0.40652
A12: =Данные!A12 -> 10 | B12: =Данные!B12 -> 43122 | C12: =Данные!C12 -> 2668.711 | D12: =Данные!D12 -> 5121.19 | E12: =Данные!E12 -> 12664.03 | F12: =Данные!F12 -> 3623.6822 | G12: =Данные!G12 -> 0 | H12: =Данные!H12 -> 0 | ... J12: =Данные!J12 -> 0 | N12: =Данные!A180 -> F-17 | O12: =Данные!B180 -> -0.11711 | P12: =Данные!C180 -> 0.53853 | Q12: =Данные!D180 -> 1 | R12: =Данные!E180 -> 0.89165 | S12: =Данные!A156 -> F-17 | T12: =Данные!B156 -> -0.26602 | U12: =Данные!C156 -> 0.087335 | V12: =Данные!D156 -> 1 | W12: =Данные!E156 -> 0.47428
A13: =Данные!A13 -> 11 | B13: =Данные!B13 -> 43123 | C13: =Данные!C13 -> 3650.4905 | D13: =Данные!D13 -> 4650.347 | E13: =Данные!E13 -> 11132.904 | F13: =Данные!F13 -> 3675.8515 | G13: =Данные!G13 -> 0 | H13: =Данные!H13 -> 0 | ... J13: =Данные!J13 -> 0 | N13: =Данные!A181 -> F-18 | O13: =Данные!B181 -> 0.1194 | P13: =Данные!C181 -> 0.68232 | Q13: =Данные!D181 -> 0.89165 | R13: =Данные!E181 -> 1 | S13: =Данные!A157 -> F-18 | T13: =Данные!B157 -> -0.13553 | U13: =Данные!C157 -> 0.40652 | V13: =Данные!D157 -> 0.47428 | W13: =Данные!E157 -> 1
A14: =Данные!A14 -> 12 | B14: =Данные!B14 -> 43124 | C14: =Данные!C14 -> 3414.0345 | D14: =Данные!D14 -> 6292.7062 | E14: =Данные!E14 -> 14697.707 | F14: =Данные!F14 -> 2907.4827 | G14: =Данные!G14 -> 0 | H14: =Данные!H14 -> 0 | ... J14: =Данные!J14 -> 0 | N14: =Данные!A182 -> R= | O14: =Данные!B182 -> 2494.5947 | P14: =Данные!C182 -> E | S14: =Данные!A158 -> R= | T14: =Данные!B158 -> 1000 | U14: =Данные!C158 -> E
A15: =Данные!A15 -> 13 | B15: =Данные!B15 -> 43125 | C15: =Данные!C15 -> 3558.2868 | D15: =Данные!D15 -> 5422.9785 | E15: =Данные!E15 -> 12140.952 | F15: =Данные!F15 -> 3648.2819 | G15: =Данные!G15 -> 0 | H15: =Данные!H15 -> 0 | ... J15: =Данные!J15 -> 0 | O15: =Данные!B183 -> F-15 | P15: =Данные!C183 -> F-16 | Q15: =Данные!D183 -> F-17 | R15: =Данные!E183 -> F-18 | T15: =Данные!B159 -> F-15 | U15: =Данные!C159 -> F-16 | V15: =Данные!D159 -> F-17 | W15: =Данные!E159 -> F-18
A16: =Данные!A16 -> 14 | B16: =Данные!B16 -> 43126 | C16: =Данные!C16 -> 4101.4143 | D16: =Данные!D16 -> 4734.7481 | E16: =Данные!E16 -> 12447.028 | F16: =Данные!F16 -> 3130.5215 | G16: =Данные!G16 -> 0 | H16: =Данные!H16 -> 0 | ... J16: =Данные!J16 -> 0 | N16: =Данные!A184 -> F-15 | O16: =Данные!B184 -> 1 | P16: =Данные!C184 -> 0.57348 | Q16: =Данные!D184 -> 0.49919 | R16: =Данные!E184 -> -0.013409 | S16: =Данные!A160 -> F-15 | T16: =Данные!B160 -> 1 | U16: =Данные!C160 -> -0.0055958 | V16: =Данные!D160 -> 0.2601 | W16: =Данные!E160 -> -1
A17: =Данные!A17 -> 15 | B17: =Данные!B17 -> 43127 | C17: =Данные!C17 -> 1658.5801 | D17: =Данные!D17 -> 4461.0688 | E17: =Данные!E17 -> 10201.909 | F17: =Данные!F17 -> 3567.1058 | G17: =Данные!G17 -> 0 | H17: =Данные!H17 -> 0 | ... J17: =Данные!J17 -> 0 | N17: =Данные!A185 -> F-16 | O17: =Данные!B185 -> 0.57348 | P17: =Данные!C185 -> 1 | Q17: =Данные!D185 -> 0.79911 | R17: =Данные!E185 -> 0.55766 | S17: =Данные!A161 -> F-16 | T17: =Данные!B161 -> -0.0055958 | U17: =Данные!C161 -> 1 | V17: =Данные!D161 -> 0.24143 | W17: =Данные!E161 -> -1
A18: =Данные!A18 -> 16 | B18: =Данные!B18 -> 43128 | C18: =Данные!C18 -> 1628.9823 | D18: =Данные!D18 -> 3903.3949 | E18: =Данные!E18 -> 10089.555 | F18: =Данные!F18 -> 3662.4725 | G18: =Данные!G18 -> 0 | H18: =Данные!H18 -> 0 | ... J18: =Данные!J18 -> 0 | N18: =Данные!A186 -> F-17 | O18: =Данные!B186 -> 0.49919 | P18: =Данные!C186 -> 0.79911 | Q18: =Данные!D186 -> 1 | R18: =Данные!E186 -> 0.4217 | S18: =Данные!A162 -> F-17 | T18: =Данные!B162 -> 0.2601 | U18: =Данные!C162 -> 0.24143 | V18: =Данные!D162 -> 1 | W18: =Данные!E162 -> 1
A19: Q1 | B19: - | C19: =QUARTILE(C$3:C$18,1) -> 2061.7581 | D19: =QUARTILE(D$3:D$18,1) -> 3917.1481 | E19: =QUARTILE(E$3:E$18,1) -> 10173.82 | F19: =QUARTILE(F$3:F$18,1) -> 3119.0406 | N19: =Данные!A187 -> F-18 | O19: =Данные!B187 -> -0.013409 | P19: =Данные!C187 -> 0.55766 | Q19: =Данные!D187 -> 0.4217 | R19: =Данные!E187 -> 1 | S19: =Данные!A163 -> F-18 | T19: =Данные!B163 -> -1 | U19: =Данные!C163 -> -1 | V19: =Данные!D163 -> 1 | W19: =Данные!E163 -> 1
A20: Q2 | B20: - | C20: =QUARTILE(C$3:C$18,2) -> 2384.9933 | D20: =QUARTILE(D$3:D$18,2) -> 4263.0136 | E20: =QUARTILE(E$3:E$18,2) -> 10590.284 | F20: =QUARTILE(F$3:F$18,2) -> 3284.5482 | N20: =Данные!A188 -> R= | O20: =Данные!B188 -> 2494.5947 | P20: =Данные!C188 -> E_temp | S20: =Данные!A164 -> R= | T20: =Данные!B164 -> 1000 | U20: =Данные!C164 -> E_temp
A21: Q3 | B21: - | C21: =QUARTILE(C$3:C$18,3) -> 3238.765 | D21: =QUARTILE(D$3:D$18,3) -> 4671.4473 | E21: =QUARTILE(E$3:E$18,3) -> 12174.623 | F21: =QUARTILE(F$3:F$18,3) -> 3629.8321 | O21: =Данные!B189 -> F-15 | P21: =Данные!C189 -> F-16 | Q21: =Данные!D189 -> F-17 | R21: =Данные!E189 -> F-18 | T21: =Данные!B165 -> F-15 | U21: =Данные!C165 -> F-16 | V21: =Данные!D165 -> F-17 | W21: =Данные!E165 -> F-18
A22: IRQ | B22: - | C22: =C21-C19 -> 1177.0069 | D22: =D21-D19 -> 754.29917 | E22: =E21-E19 -> 2000.8022 | F22: =F21-F19 -> 510.79147 | N22: =Данные!A190 -> F-15 | O22: =Данные!B190 -> 1 | P22: =Данные!C190 -> 0.40751 | Q22: =Данные!D190 -> 0.11201 | R22: =Данные!E190 -> -0.031075 | S22: =Данные!A166 -> F-15 | T22: =Данные!B166 -> 1 | U22: =Данные!C166 -> -0.068796 | V22: =Данные!D166 -> -0.065578 | W22: =Данные!E166 -> NaN
A23: Спутник | B23: =Данные!B19 -> 15 | C23: Зона | D23: =Данные!D19 -> 1000 | E23: км | G23: Отклонение, % | N23: =Данные!A191 -> F-16 | O23: =Данные!B191 -> 0.40751 | P23: =Данные!C191 -> 1 | Q23: =Данные!D191 -> 0.59298 | R23: =Данные!E191 -> 0.30975 | S23: =Данные!A167 -> F-16 | T23: =Данные!B167 -> -0.068796 | U23: =Данные!C167 -> 1 | V23: =Данные!D167 -> -0.057433 | W23: =Данные!E167 -> NaN
A24: № | C24: H-He | D24: О2 | E24: E | F24: Etemp | G24: H-He | H24: О2 | I24: E | J24: Etemp | N24: =Данные!A192 -> F-17 | O24: =Данные!B192 -> 0.11201 | P24: =Данные!C192 -> 0.59298 | Q24: =Данные!D192 -> 1 | R24: =Данные!E192 -> 0.28597 | S24: =Данные!A168 -> F-17 | T24: =Данные!B168 -> -0.065578 | U24: =Данные!C168 -> -0.057433 | V24: =Данные!D168 -> 1 | W24: =Данные!E168 -> NaN
A25: =Данные!A21 -> 1 | B25: =Данные!B21 -> 43113 | C25: =Данные!C21 -> 1419.5722 | D25: =Данные!D21 -> 5532.9494 | E25: =Данные!E21 -> 10378.373 | F25: =Данные!F21 -> 2829.9643 | G25: =Данные!G21 -> 0 | H25: =Данные!H21 -> 0 | ... J25: =Данные!J21 -> 0 | N25: =Данные!A193 -> F-18 | O25: =Данные!B193 -> -0.031075 | P25: =Данные!C193 -> 0.30975 | Q25: =Данные!D193 -> 0.28597 | R25: =Данные!E193 -> 1 | S25: =Данные!A169 -> F-18 | T25: =Данные!B169 -> NaN | U25: =Данные!C169 -> NaN | V25: =Данные!D169 -> NaN | W25: =Данные!E169 -> NaN
A26: =Данные!A22 -> 2 | B26: =Данные!B22 -> 43114 | C26: =Данные!C22 -> 508.2833 | D26: =Данные!D22 -> 3949.2933 | E26: =Данные!E22 -> 11062.793 | F26: =Данные!F22 -> 3071.92 | G26: =Данные!G22 -> 59.1613 | H26: =Данные!H22 -> 0 | ... J26: =Данные!J22 -> 0
A27: =Данные!A23 -> 3 | B27: =Данные!B23 -> 43115 | C27: =Данные!C23 -> 1881.2356 | D27: =Данные!D23 -> 5512.6959 | E27: =Данные!E23 -> 10268.474 | F27: =Данные!F23 -> 3133.5556 | G27: =Данные!G23 -> 0 | H27: =Данные!H23 -> 0 | ... J27: =Данные!J23 -> 0
A28: =Данные!A24 -> 4 | B28: =Данные!B24 -> 43116 | C28: =Данные!C24 -> 2209.1568 | D28: =Данные!D24 -> 4164.7607 | E28: =Данные!E24 -> 9058.8965 | F28: =Данные!F24 -> 3282.4 | G28: =Данные!G24 -> 0 | H28: =Данные!H24 -> 0 | ... J28: =Данные!J24 -> 0
A29: =Данные!A25 -> 5 | B29: =Данные!B25 -> 43117 | C29: =Данные!C25 -> 2400.9428 | D29: =Данные!D25 -> 5255.5039 | E29: =Данные!E25 -> 11345.336 | F29: =Данные!F25 -> 3584.4651 | G29: =Данные!G25 -> 0 | H29: =Данные!H25 -> 0 | ... J29: =Данные!J25 -> 0
A30: =Данные!A26 -> 6 | B30: =Данные!B26 -> 43118 | C30: =Данные!C26 -> 1808.2767 | D30: =Данные!D26 -> 6010.4639 | E30: =Данные!E26 -> 12793.452 | F30: =Данные!F26 -> 3101.1034 | G30: =Данные!G26 -> 0 | H30: =Данные!H26 -> 0 | ... J30: =Данные!J26 -> 0
A31: =Данные!A27 -> 7 | B31: =Данные!B27 -> 43119 | C31: =Данные!C27 -> 1041.0243 | D31: =Данные!D27 -> 4284.4569 | E31: =Данные!E27 -> 10274.535 | F31: =Данные!F27 -> 2840.5714 | G31: =Данные!G27 -> 0 | H31: =Данные!H27 -> 0 | ... J31: =Данные!J27 -> 0
A32: =Данные!A28 -> 8 | B32: =Данные!B28 -> 43120 | C32: =Данные!C28 -> 207.785 | D32: =Данные!D28 -> 4231.2628 | E32: =Данные!E28 -> 8477.1826 | F32: =Данные!F28 -> 2866.9231 | G32: =Данные!G28 -> 94.8927 | H32: =Данные!H28 -> 0 | ... J32: =Данные!J28 -> 0
A33: =Данные!A29 -> 9 | B33: =Данные!B29 -> 43121 | C33: =Данные!C29 -> 2077.7967 | D33: =Данные!D29 -> 3896.8519 | E33: =Данные!E29 -> 7335.0973 | F33: =Данные!F29 -> 3327.8857 | G33: =Данные!G29 -> 0 | H33: =Данные!H29 -> 0 | ... J33: =Данные!J29 -> 0
A34: =Данные!A30 -> 10 | B34: =Данные!B30 -> 43122 | C34: =Данные!C30 -> 2051.2492 | D34: =Данные!D30 -> 6137.4306 | E34: =Данные!E30 -> 10675.897 | F34: =Данные!F30 -> 3190.4242 | G34: =Данные!G30 -> 0 | H34: =Данные!H30 -> 0 | ... J34: =Данные!J30 -> 0
A35: =Данные!A31 -> 11 | B35: =Данные!B31 -> 43123 | C35: =Данные!C31 -> 2076.4903 | D35: =Данные!D31 -> 4821.2033 | E35: =Данные!E31 -> 9242.0089 | F35: =Данные!F31 -> 3518.2 | G35: =Данные!G31 -> 0 | H35: =Данные!H31 -> 0 | ... J35: =Данные!J31 -> 0
A36: =Данные!A32 -> 12 | B36: =Данные!B32 -> 43124 | C36: =Данные!C32 -> 3351.0461 | D36: =Данные!D32 -> 8130.7581 | E36: =Данные!E32 -> 13950.381 | F36: =Данные!F32 -> 2860.5833 | G36: =Данные!G32 -> 0 | H36: =Данные!H32 -> 0 | ... J36: =Данные!J32 -> 0
A37: =Данные!A33 -> 13 | B37: =Данные!B33 -> 43125 | C37: =Данные!C33 -> 1792.5789 | D37: =Данные!D33 -> 6347.0892 | E37: =Данные!E33 -> 8892.0195 | F37: =Данные!F33 -> 3389.4091 | G37: =Данные!G33 -> 0 | H37: =Данные!H33 -> 0 | ... J37: =Данные!J33 -> 0
... A40: =Данные!A36 -> 16 | B40: =Данные!B36 -> 43128 | C40: =Данные!C36 -> 1333.0586 | D40: =Данные!D36 -> 3012.7587 | E40: =Данные!E36 -> 6893.3197 | F40: =Данные!F36 -> 3555.25 | G40: =Данные!G36 -> 0 | H40: =Данные!H36 -> 22.1008 | ... J40: =Данные!J36 -> 0
A41: Q1 | B41: - | C41: =QUARTILE(C25:C40,1) -> 1397.9438 | D41: =QUARTILE(D25:D40,1) -> 4214.6373 | E41: =QUARTILE(E25:E40,1) -> 8928.2905 | F41: =QUARTILE(F25:F40,1) -> 3020.6708
A42: Q2 | B42: - | C42: =QUARTILE(C25:C40,2) -> 1846.8202 | D42: =QUARTILE(D25:D40,2) -> 5384.0999 | E42: =QUARTILE(E25:E40,2) -> 9758.1159 | F42: =QUARTILE(F25:F40,2) -> 3203.2314
...

Sheet Данные
A1: F= | B1: 15 | C1: R= | D1: 2494.5947
A2: N | B2: Date | C2: H-He+ | D2: O2 | E2: E | F2: E_temp | G2: Limit(H-He+) | H2: Limit(O2) | I2: Limit(E) | J2: Limit(E_temp)
A3: 1 | B3: 43113 | C3: 2244.9024 | D3: 3921.7325 | E3: 10259.743 | F3: 3047.4751 | G3: 0 | H3: 0 | I3: 0 | J3: 0
A4: 2 | B4: 43114 | C4: 2156.4929 | D4: 3665.7745 | E4: 10971.306 | F4: 3063.9567 | G4: 0 | H4: 0 | I4: 0 | J4: 0
A5: 3 | B5: 43115 | C5: 2008.8754 | D5: 4288.5817 | E5: 9564.4511 | F5: 3084.5981 | G5: 0 | H5: 0 | I5: 0 | J5: 0
A6: 4 | B6: 43116 | C6: 2063.3039 | D6: 3856.897 | E6: 9782.8573 | F6: 3426.8708 | G6: 0 | H6: 0 | I6: 0 | J6: 0
A7: 5 | B7: 43117 | C7: 2256.1997 | D7: 4237.4455 | E7: 10258.911 | F7: 3679.7531 | G7: 0 | H7: 0 | I7: 0 | J7: 0
A8: 6 | B8: 43118 | C8: 3036.8328 | D8: 4343.8438 | E8: 12275.633 | F8: 3191.5789 | G8: 0 | H8: 0 | I8: 0 | J8: 0
A9: 7 | B9: 43119 | C9: 3180.3419 | D9: 4080.2705 | E9: 10828.047 | F9: 3142.0962 | G9: 0 | H9: 0 | I9: 0 | J9: 0
A10: 8 | B10: 43120 | C10: 2057.1208 | D10: 3897.6486 | E10: 9679.7374 | F10: 3242.1244 | G10: 0 | H10: 0 | I10: 0 | J10: 0
A11: 9 | B11: 43121 | C11: 2513.787 | D11: 4182.7658 | E11: 10352.522 | F11: 3326.972 | G11: 0 | H11: 0 | I11: 0 | J11: 0
A12: 10 | B12: 43122 | C12: 2668.711 | D12: 5121.19 | E12: 12664.03 | F12: 3623.6822 | G12: 0 | H12: 0 | I12: 0 | J12: 0
A13: 11 | B13: 43123 | C13: 3650.4905 | D13: 4650.347 | E13: 11132.904 | F13: 3675.8515 | G13: 0 | H13: 0 | I13: 0 | J13: 0
A14: 12 | B14: 43124 | C14: 3414.0345 | D14: 6292.7062 | E14: 14697.707 | F14: 2907.4827 | G14: 0 | H14: 0 | I14: 0 | J14: 0
... A18: 16 | B18: 43128 | C18: 1628.9823 | D18: 3903.3949 | E18: 10089.555 | F18: 3662.4725 | G18: 0 | H18: 0 | I18: 0 | J18: 0
A19: F= | B19: 15 | C19: R= | D19: 1000
A20: N | B20: Date | C20: H-He+ | D20: O2 | E20: E | F20: E_temp | G20: Limit(H-He+) | H20: Limit(O2) | I20: Limit(E) | J20: Limit(E_temp)
A21: 1 | B21: 43113 | C21: 1419.5722 | D21: 5532.9494 | E21: 10378.373 | F21: 2829.9643 | G21: 0 | H21: 0 | I21: 0 | J21: 0
A22: 2 | B22: 43114 | C22: 508.2833 | D22: 3949.2933 | E22: 11062.793 | F22: 3071.92 | G22: 59.1613 | H22: 0 | I22: 0 | J22: 0
A23: 3 | B23: 43115 | C23: 1881.2356 | D23: 5512.6959 | E23: 10268.474 | F23: 3133.5556 | G23: 0 | H23: 0 | I23: 0 | J23: 0
A24: 4 | B24: 43116 | C24: 2209.1568 | D24: 4164.7607 | E24: 9058.8965 | F24: 3282.4 | G24: 0 | H24: 0 | I24: 0 | J24: 0
A25: 5 | B25: 43117 | C25: 2400.9428 | D25: 5255.5039 | E25: 11345.336 | F25: 3584.4651 | G25: 0 | H25: 0 | I25: 0 | J25: 0
A26: 6 | B26: 43118 | C26: 1808.2767 | D26: 6010.4639 | E26: 12793.452 | F26: 3101.1034 | G26: 0 | H26: 0 | I26: 0 | J26: 0
A27: 7 | B27: 43119 | C27: 1041.0243 | D27: 4284.4569 | E27: 10274.535 | F27: 2840.5714 | G27: 0 | H27: 0 | I27: 0 | J27: 0
A28: 8 | B28: 43120 | C28: 207.785 | D28: 4231.2628 | E28: 8477.1826 | F28: 2866.9231 | G28: 94.8927 | H28: 0 | I28: 0 | J28: 0
A29: 9 | B29: 43121 | C29: 2077.7967 | D29: 3896.8519 | E29: 7335.0973 | F29: 3327.8857 | G29: 0 | H29: 0 | I29: 3.3811 | J29: 0
A30: 10 | B30: 43122 | C30: 2051.2492 | D30: 6137.4306 | E30: 10675.897 | F30: 3190.4242 | G30: 0 | H30: 0 | I30: 0 | J30: 0
A31: 11 | B31: 43123 | C31: 2076.4903 | D31: 4821.2033 | E31: 9242.0089 | F31: 3518.2 | G31: 0 | H31: 0 | I31: 0 | J31: 0
A32: 12 | B32: 43124 | C32: 3351.0461 | D32: 8130.7581 | E32: 13950.381 | F32: 2860.5833 | G32: 0 | H32: 0 | I32: 0 | J32: 0
... A36: 16 | B36: 43128 | C36: 1333.0586 | D36: 3012.7587 | E36: 6893.3197 | F36: 3555.25 | G36: 0 | H36: 22.1008 | I36: 22.2301 | J36: 0
A37: F= | B37: 16 | C37: R= | D37: 2494.5947
A38: N | B38: Date | C38: H-He+ | D38: O2 | E38: E | F38: E_temp | G38: Limit(H-He+) | H38: Limit(O2) | I38: Limit(E) | J38: Limit(E_temp)
A39: 1 | B39: 43113 | C39: 3414.3345 | D39: 2208.5999 | E39: 3959.4636 | F39: 3115.3348 | G39: 0 | H39: 0 | I39: 0 | J39: 0
A40: 2 | B40: 43114 | C40: 4186.385 | D40: 2488.7644 | E40: 4215.9708 | F40: 3094.8706 | G40: 0 | H40: 0 | I40: 0 | J40: 0
A41: 3 | B41: 43115 | C41: 3465.3074 | D41: 1574.8797 | E41: 3356.7712 | F41: 3137.2601 | G41: 0 | H41: 0 | I41: 0 | J41: 0
A42: 4 | B42: 43116 | C42: 3802.9271 | D42: 1321.8151 | E42: 3070.551 | F42: 3121.4023 | G42: 0 | H42: 0 | I42: 0 | J42: 0
A43: 5 | B43: 43117 | C43: 3652.4425 | D43: 1592.7936 | E43: 3239.0223 | F43: 3483.0326 | G43: 0 | H43: 0 | I43: 0 | J43: 0
A44: 6 | B44: 43118 | C44: 3868.5097 | D44: 1855.0588 | E44: 3664.1632 | F44: 3366.901 | G44: 0 | H44: 0 | I44: 0 | J44: 0
A45: 7 | B45: 43119 | C45: 3671.7522 | D45: 2034.3165 | E45: 3871.0524 | F45: 3122.9598 | G45: 0 | H45: 0 | I45: 0 | J45: 0
A46: 8 | B46: 43120 | C46: 3231.6765 | D46: 2144.9521 | E46: 3707.5643 | F46: 3188.7864 | G46: 0 | H46: 0 | I46: 0 | J46: 0
...
