Workbook

Sheet Отчёт
A1: Спутник | B1: =Данные!B1 -> 15 | C1: Зона | D1: =Данные!D1 -> 2494.5947 | E1: км | G1: Отклонение, % | N1: Корреляция | S1: Корреляция
A2: № | C2: H-He | D2: О2 | E2: E | F2: Etemp | G2: H-He | H2: О2 | I2: E | J2: Etemp | N2: =Данные!A170 -> R= | O2: =Данные!B170 -> 2494.5947 | P2: =Данные!C170 -> H-He | S2: =Данные!A146 -> R= | T2: =Данные!B146 -> 1000 | U2: =Данные!C146 -> H-He
A3: =Данные!A3 -> 1 | B3: =Данные!B3 -> 43113 | C3: =Данные!C3 -> 2244.9024 | D3: =Данные!D3 -> 3921.7325 | E3: =Данные!E3 -> 10259.743 | F3: =Данные!F3 -> 3047.4751 | G3: =Данные!G3 -> 0 | H3: =Данные!H3 -> 0 | ... J3: =Данные!J3 -> 0 | O3: =Данные!B171 -> F-15 | P3: =Данные!C171 -> F-16 | Q3: =Данные!D171 -> F-17 | R3: =Данные!E171 -> F-18 | T3: =Данные!B147 -> F-15 | U3: =Данные!C147 -> F-16 | V3: =Данные!D147 -> F-17 | W3: =Данные!E147 -> F-18
A4: =Данные!A4 -> 2 | B4: =Данные!B4 -> 43114 | C4: =Данные!C4 -> 2156.4929 | D4: =Данные!D4 -> 3665.7745 | E4: =Данные!E4 -> 10971.306 | F4: =Данные!F4 -> 3063.9567 | G4: =Данные!G4 -> 0 | H4: =Данные!H4 -> 0 | ... J4: =Данные!J4 -> 0 | N4: =Данные!A172 -> F-15 | O4: =Данные!B172 -> 1 | P4: =Данные!C172 -> 0.41642 | Q4: =Данные!D172 -> 0.44982 | R4: =Данные!E172 -> 0.55314 | S4: =Данные!A148 -> F-15 | T4: =Данные!B148 -> 1 | U4: =Данные!C148 -> 0.012283 | V4: =Данные!D148 -> -0.29607 | W4: =Данные!E148 -> 0.068348
A5: =Данные!A5 -> 3 | B5: =Данные!B5 -> 43115 | C5: =Данные!C5 -> 2008.8754 | D5: =Данные!D5 -> 4288.5817 | E5: =Данные!E5 -> 9564.4511 | F5: =Данные!F5 -> 3084.5981 | G5: =Данные!G5 -> 0 | H5: =Данные!H5 -> 0 | ... J5: =Данные!J5 -> 0 | N5: =Данные!A173 -> F-16 | O5: =Данные!B173 -> 0.41642 | P5: =Данные!C173 -> 1 | Q5: =Данные!D173 -> 0.86828 | R5: =Данные!E173 -> 0.90538 | S5: =Данные!A149 -> F-16 | T5: =Данные!B149 -> 0.012283 | U5: =Данные!C149 -> 1 | V5: =Данные!D149 -> 0.49873 | W5: =Данные!E149 -> 0.47433
A6: =Данные!A6 -> 4 | B6: =Данные!B6 -> 43116 | C6: =Данные!C6 -> 2063.3039 | D6: =Данные!D6 -> 3856.897 | E6: =Данные!E6 -> 9782.8573 | F6: =Данные!F6 -> 3426.8708 | G6: =Данные!G6 -> 0 | H6: =Данные!H6 -> 0 | ... J6: =Данные!J6 -> 0 | N6: =Данные!A174 -> F-17 | O6: =Данные!B174 -> 0.44982 | P6: =Данные!C174 -> 0.86828 | Q6: =Данные!D174 -> 1 | R6: =Данные!E174 -> 0.94935 | S6: =Данные!A150 -> F-17 | T6: =Данные!B150 -> -0.29607 | U6: =Данные!C150 -> 0.49873 | V6: =Данные!D150 -> 1 | W6: =Данные!E150 -> 0.81689
A7: =Данные!A7 -> 5 | B7: =Данные!B7 -> 43117 | C7: =Данные!C7 -> 2256.1997 | D7: =Данные!D7 -> 4237.4455 | E7: =Данные!E7 -> 10258.911 | F7: =Данные!F7 -> 3679.7531 | G7: =Данные!G7 -> 0 | H7: =Данные!H7 -> 0 | ... J7: =Данные!J7 -> 0 | N7: =Данные!A175 -> F-18 | O7: =Данные!B175 -> 0.55314 | P7: =Данные!C175 -> 0.90538 | Q7: =Данные!D175 -> 0.94935 | R7: =Данные!E175 -> 1 | S7: =Данные!A151 -> F-18 | T7: =Данные!B151 -> 0.068348 | U7: =Данные!C151 -> 0.47433 | V7: =Данные!D151 -> 0.81689 | W7: =Данные!E151 -> 1
A8: =Данные!A8 -> 6 | B8: =Данные!B8 -> 43118 | C8: =Данные!C8 -> 3036.8328 | D8: =Данные!D8 -> 4343.8438 | E8: =Данные!E8 -> 12275.633 | F8: =Данные!F8 -> 3191.5789 | G8: =Данные!G8 -> 0 | H8: =Данные!H8 -> 0 | ... J8: =Данные!J8 -> 0 | N8: =Данные!A176 -> R= | O8: =Данные!B176 -> 2494.5947 | P8: =Данные!C176 -> O2 | S8: =Данные!A152 -> R= | T8: =Данные!B152 -> 1000 | U8: =Данные!C152 -> O2
A9: =Данные!A9 -> 7 | B9: =Данные!B9 -> 43119 | C9: =Данные!C9 -> 3180.3419 | D9: =Данные!D9 -> 4080.2705 | E9: =Данные!E9 -> 10828.047 | F9: =Данные!F9 -> 3142.0962 | G9: =Данные!G9 -> 0 | H9: =Данные!H9 -> 0 | ... J9: =Данные!J9 -> 0 | N9: =Данные!A177 -> 0 | O9: =Данные!B177 -> F-15 | P9: =Данные!C177 -> F-16 | Q9: =Данные!D177 -> F-17 | R9: =Данные!E177 -> F-18 | T9: =Данные!B153 -> F-15 | U9: =Данные!C153 -> F-16 | V9: =Данные!D153 -> F-17 | W9: =Данные!E153 -> F-18
A10: =Данные!A10 -> 8 | B10: =Данные!B10 -> 43120 | C10: =Данные!C10 -> 2057.1208 | D10: =Данные!D10 -> 3897.6486 | E10: =Данные!E10 -> 9679.7374 | F10: =Данные!F10 -> 3242.1244 | G10: =Данные!G10 -> 0 | H10: =Данные!H10 -> 0 | ... J10: =Данные!J10 -> 0 | N10: =Данные!A178 -> F-15 | O10: =Данные!B178 -> 1 | P10: =Данные!C178 -> 0.55987 | Q10: =Данные!D178 -> -0.11711 | R10: =Данные!E178 -> 0.1194 | S10: =Данные!A154 -> F-15 | T10: =Данные!B154 -> 1 | U10: =Данные!C154 -> 0.21802 | V10: =Данные!D154 -> -0.26602 | W10: =Данные!E154 -> -0.13553
A11: =Данные!A11 -> 9 | B11: =Данные!B11 -> 43121 | C11: =Данные!C11 -> 2513.787 | D11: =Данные!D11 -> 4182.7658 | E11: =Данные!E11 -> 10352.522 | F11: =Данные!F11 -> 3326.972 | G11: =Данные!G11 -> 0 | H11: =Данные!H11 -> 0 | ... J11: =Данные!J11 -> 0 | N11: =Данные!A179 -> F-16 | O11: =Данные!B179 -> 0.55987 | P11: =Данные!C179 -> 1 | Q11: =Данные!D179 -> 0.53853 | R11: =Данные!E179 -> 0.68232 | S11: =Данные!A155 -> F-16 | T11: =Данные!B155 -> 0.21802 | U11: =Данные!C155 -> 1 | V11: =Данные!D155 -> 0.087335 | W11: =Данные!E155 -> 0.40652
A12: =Данные!A12 -> 10 | B12: =Данные!B12 -> 43122 | C12: =Данные!C12 -> 2668.711 | D12: =Данные!D12 -> 5121.19 | E12: =Данные!E12 -> 12664.03 | F12: =Данные!F12 -> 3623.6822 | G12: =Данные!G12 -> 0 | H12: =Данные!H12 -> 0 | ... J12: =Данные!J12 -> 0 | N12: =Данные!A180 -> F-17 | O12: =Данные!B180 -> -0.11711 | P12: =Данные!C180 -> 0.53853 | Q12: =Данные!D180 -> 1 | R12: =Данные!E180 -> 0.89165 | S12: =Данные!A156 -> F-17 | T12: =Данные!B156 -> -0.26602 | U12: =Данные!C156 -> 0.087335 | V12: =Данные!D156 -> 1 | W12: =Данные!E156 -> 0.47428
A13: =Данные!A13 -> 11 | B13: =Данные!B13 -> 43123 | C13: =Данные!C13 -> 3650.4905 | D13: =Данные!D13 -> 4650.347 | E13: =Данные!E13 -> 11132.904 | F13: =Данные!F13 -> 3675.8515 | G13: =Данные!G13 -> 0 | H13: =Данные!H13 -> 0 | ... J13: =Данные!J13 -> 0 | N13: =Данные!A181 -> F-18 | O13: =Данные!B181 -> 0.1194 | P13: =Данные!C181 -> 0.68232 | Q13: =Данные!D181 -> 0.89165 | R13: =Данные!E181 -> 1 | S13: =Данные!A157 -> F-18 | T13: =Данные!B157 -> -0.13553 | U13: =Данные!C157 -> 0.40652 | V13: =Данные!D157 -> 0.47428 | W13: =Данные!E157 -> 1
A14: =Данные!A14 -> 12 | B14: =Данные!B14 -> 43124 | C14: =Данные!C14 -> 3414.0345 | D14: =Данные!D14 -> 6292.7062 | E14: =Данные!E14 -> 14697.707 | F14: =Данные!F14 -> 2907.4827 | G14: =Данные!G14 -> 0 | H14: =Данные!H14 -> 0 | ... J14: =Данные!J14 -> 0 | N14: =Данные!A182 -> R= | O14: =Данные!B182 -> 2494.5947 | P14: =Данные!C182 -> E | S14: =Данные!A158 -> R= | T14: =Данные!B158 -> 1000 | U14: =Данные!C158 -> E
A15: =Данные!A15 -> 13 | B15: =Данные!B15 -> 43125 | C15: =Данные!C15 -> 3558.2868 | D15: =Данные!D15 -> 5422.9785 | E15: =Данные!E15 -> 12140.952 | F15: =Данные!F15 -> 3648.2819 | G15: =Данные!G15 -> 0 | H15: =Данные!H15 -> 0 | ... J15: =Данные!J15 -> 0 | O15: =Данные!B183 -> F-15 | P15: =Данные!C183 -> F-16 | Q15: =Данные!D183 -> F-17 | R15: =Данные!E183 -> F-18 | T15: =Данные!B159 -> F-15 | U15: =Данные!C159 -> F-16 | V15: =Данные!D159 -> F-17 | W15: =Данные!E159 -> F-18
A16: =Данные!A16 -> 14 | B16: =Данные!B16 -> 43126 | C16: =Данные!C16 -> 4101.4143 | D16: =Данные!D16 -> 4734.7481 | E16: =Данные!E16 -> 12447.028 | F16: =Данные!F16 -> 3130.5215 | G16: =Данные!G16 -> 0 | H16: =Данные!H16 -> 0 | ... J16: =Данные!J16 -> 0 | N16: =Данные!A184 -> F-15 | O16: =Данные!B184 -> 1 | P16: =Данные!C184 -> 0.57348 | Q16: =Данные!D184 -> 0.49919 | R16: =Данные!E184 -> -0.013409 | S16: =Данные!A160 -> F-15 | T16: =Данные!B160 -> 1 | U16: =Данные!C160 -> -0.0055958 | V16: =Данные!D160 -> 0.2601 | W16: =Данные!E160 -> -1
A17: =Данные!A17 -> 15 | B17: =Данные!B17 -> 43127 | C17: =Данные!C17 -> 1658.5801 | D17: =Данные!D17 -> 4461.0688 | E17: =Данные!E17 -> 10201.909 | F17: =Данные!F17 -> 3567.1058 | G17: =Данные!G17 -> 0 | H17: =Данные!H17 -> 0 | ... J17: =Данные!J17 -> 0 | N17: =Данные!A185 -> F-16 | O17: =Данные!B185 -> 0.57348 | P17: =Данные!C185 -> 1 | Q17: =Данные!D185 -> 0.79911 | R17: =Данные!E185 -> 0.55766 | S17: =Данные!A161 -> F-16 | T17: =Данные!B161 -> -0.0055958 | U17: =Данные!C161 -> 1 | V17: =Данные!D161 -> 0.24143 | W17: =Данные!E161 -> -1
A18: =Данные!A18 -> 16 | B18: =Данные!B18 -> 43128 | C18: =Данные!C18 -> 1628.9823 | D18: =Данные!D18 -> 3903.3949 | E18: =Данные!E18 -> 10089.555 | F18: =Данные!F18 -> 3662.4725 | G18: =Данные!G18 -> 0 | H18: =Данные!H18 -> 0 | ... J18: =Данные!J18 -> 0 | N18: =Данные!A186 -> F-17 | O18: =Данные!B186 -> 0.49919 | P18: =Данные!C186 -> 0.79911 | Q18: =Данные!D186 -> 1 | R18: =Данные!E186 -> 0.4217 | S18: =Данные!A162 -> F-17 | T18: =Данные!B162 -> 0.2601 | U18: =Данные!C162 -> 0.24143 | V18: =Данные!D162 -> 1 | W18: =Данные!E162 -> 1
A19: Q1 | B19: - | C19: =QUARTILE(C$3:C$18,1) -> 2061.7581 | D19: =QUARTILE(D$3:D$18,1) -> 3917.1481 | E19: =QUARTILE(E$3:E$18,1) -> 10173.82 | F19: =QUARTILE(F$3:F$18,1) -> 3119.0406 | N19: =Данные!A187 -> F-18 | O19: =Данные!B187 -> -0.013409 | P19: =Данные!C187 -> 0.55766 | Q19: =Данные!D187 -> 0.4217 | R19: =Данные!E187 -> 1 | S19: =Данные!A163 -> F-18 | T19: =Данные!B163 -> -1 | U19: =Данные!C163 -> -1 | V19: =Данные!D163 -> 1 | W19: =Данные!E163 -> 1
A20: Q2 | B20: - | C20: =QUARTILE(C$3:C$18,2) -> 2384.9933 | D20: =QUARTILE(D$3:D$18,2) -> 4263.0136 | E20: =QUARTILE(E$3:E$18,2) -> 10590.284 | F20: =QUARTILE(F$3:F$18,2) -> 3284.5482 | N20: =Данные!A188 -> R= | O20: =Данные!B188 -> 2494.5947 | P20: =Данные!C188 -> E_temp | S20: =Данные!A164 -> R= | T20: =Данные!B164 -> 1000 | U20: =Данные!C164 -> E_temp
A21: Q3 | B21: - | C21: =QUARTILE(C$3:C$18,3) -> 3238.765 | D21: =QUARTILE(D$3:D$18,3) -> 4671.4473 | E21: =QUARTILE(E$3:E$18,3) -> 12174.623 | F21: =QUARTILE(F$3:F$18,3) -> 3629.8321 | O21: =Данные!B189 -> F-15 | P21: =Данные!C189 -> F-16 | Q21: =Данные!D189 -> F-17 | R21: =Данные!E189 -> F-18 | T21: =Данные!B165 -> F-15 | U21: =Данные!C165 -> F-16 | V21: =Данные!D165 -> F-17 | W21: =Данные!E165 -> F-18
A22: IRQ | B22: - | C22: =C21-C19 -> 1177.0069 | D22: =D21-D19 -> 754.29917 | E22: =E21-E19 -> 2000.8022 | F22: =F21-F19 -> 510.79147 | N22: =Данные!A190 -> F-15 | O22: =Данные!B190 -> 1 | P22: =Данные!C190 -> 0.40751 | Q22: =Данные!D190 -> 0.11201 | R22: =Данные!E190 -> -0.031075 | S22: =Данные!A166 -> F-15 | T22: =Данные!B166 -> 1 | U22: =Данные!C166 -> -0.068796 | V22: =Данные!D166 -> -0.065578 | W22: =Данные!E166 -> NaN
A23: Спутник | B23: =Данные!B19 -> 15 | C23: Зона | D23: =Данные!D19 -> 1000 | E23: км | G23: Отклонение, % | N23: =Данные!A191 -> F-16 | O23: =Данные!B191 -> 0.40751 | P23: =Данные!C191 -> 1 | Q23: =Данные!D191 -> 0.59298 | R23: =Данные!E191 -> 0.30975 | S23: =Данные!A167 -> F-16 | T23: =Данные!B167 -> -0.068796 | U23: =Данные!C167 -> 1 | V23: =Данные!D167 -> -0.057433 | W23: =Данные!E167 -> NaN
A24: № | C24: H-He | D24: О2 | E24: E | F24: Etemp | G24: H-He | H24: О2 | I24: E | J24: Etemp | N24: =Данные!A192 -> F-17 | O24: =Данные!B192 -> 0.11201 | P24: =Данные!C192 -> 0.59298 | Q24: =Данные!D192 -> 1 | R24: =Данные!E192 -> 0.28597 | S24: =Данные!A168 -> F-17 | T24: =Данные!B168 -> -0.065578 | U24: =Данные!C168 -> -0.057433 | V24: =Данные!D168 -> 1 | W24: =Данные!E168 -> NaN
A25: =Данные!A21 -> 1 | B25: =Данные!B21 -> 43113 | C25: =Данные!C21 -> 1419.5722 | D25: =Данные!D21 -> 5532.9494 | E25: =Данные!E21 -> 10378.373 | F25: =Данные!F21 -> 2829.9643 | G25: =Данные!G21 -> 0 | H25: =Данные!H21 -> 0 | ... J25: =Данные!J21 -> 0 | N25: =Данные!A193 -> F-18 | O25: =Данные!B193 -> -0.031075 | P25: =Данные!C193 -> 0.30975 | Q25: =Данные!D193 -> 0.28597 | R25: =Данные!E193 -> 1 | S25: =Данные!A169 -> F-18 | T25: =Данные!B169 -> NaN | U25: =Данные!C169 -> NaN | V25: =Данные!D169 -> NaN | W25: =Данные!E169 -> NaN
A26: =Данные!A22 -> 2 | B26: =Данные!B22 -> 43114 | C26: =Данные!C22 -> 508.2833 | D26: =Данные!D22 -> 3949.2933 | E26: =Данные!E22 -> 11062.793 | F26: =Данные!F22 -> 3071.92 | G26: =Данные!G22 -> 59.1613 | H26: =Данные!H22 -> 0 | ... J26: =Данные!J22 -> 0
A27: =Данные!A23 -> 3 | B27: =Данные!B23 -> 43115 | C27: =Данные!C23 -> 1881.2356 | D27: =Данные!D23 -> 5512.6959 | E27: =Данные!E23 -> 10268.474 | F27: =Данные!F23 -> 3133.5556 | G27: =Данные!G23 -> 0 | H27: =Данные!H23 -> 0 | ... J27: =Данные!J23 -> 0
A28: =Данные!A24 -> 4 | B28: =Данные!B24 -> 43116 | C28: =Данные!C24 -> 2209.1568 | D28: =Данные!D24 -> 4164.7607 | E28: =Данные!E24 -> 9058.8965 | F28: =Данные!F24 -> 3282.4 | G28: =Данные!G24 -> 0 | H28: =Данные!H24 -> 0 | ... J28: =Данные!J24 -> 0
A29: =Данные!A25 -> 5 | B29: =Данные!B25 -> 43117 | C29: =Данные!C25 -> 2400.9428 | D29: =Данные!D25 -> 5255.5039 | E29: =Данные!E25 -> 11345.336 | F29: =Данные!F25 -> 3584.4651 | G29: =Данные!G25 -> 0 | H29: =Данные!H25 -> 0 | ... J29: =Данные!J25 -> 0
A30: =Данные!A26 -> 6 | B30: =Данные!B26 -> 43118 | C30: =Данные!C26 -> 1808.2767 | D30: =Данные!D26 -> 6010.4639 | E30: =Данные!E26 -> 12793.452 | F30: =Данные!F26 -> 3101.1034 | G30: =Данные!G26 -> 0 | H30: =Данные!H26 -> 0 | ... J30: =Данные!J26 -> 0
A31: =Данные!A27 -> 7 | B31: =Данные!B27 -> 43119 | C31: =Данные!C27 -> 1041.0243 | D31: =Данные!D27 -> 4284.4569 | E31: =Данные!E27 -> 10274.535 | F31: =Данные!F27 -> 2840.5714 | G31: =Данные!G27 -> 0 | H31: =Данные!H27 -> 0 | ... J31: =Данные!J27 -> 0
A32: =Данные!A28 -> 8 | B32: =Данные!B28 -> 43120 | C32: =Данные!C28 -> 207.785 | D32: =Данные!D28 -> 4231.2628 | E32: =Данные!E28 -> 8477.1826 | F32: =Данные!F28 -> 2866.9231 | G32: =Данные!G28 -> 94.8927 | H32: =Данные!H28 -> 0 | ... J32: =Данные!J28 -> 0
A33: =Данные!A29 -> 9 | B33: =Данные!B29 -> 43121 | C33: =Данные!C29 -> 2077.7967 | D33: =Данные!D29 -> 3896.8519 | E33: =Данные!E29 -> 7335.0973 | F33: =Данные!F29 -> 3327.8857 | G33: =Данные!G29 -> 0 | H33: =Данные!H29 -> 0 | ... J33: =Данные!J29 -> 0
A34: =Данные!A30 -> 10 | B34: =Данные!B30 -> 43122 | C34: =Данные!C30 -> 2051.2492 | D34: =Данные!D30 -> 6137.4306 | E34: =Данные!E30 -> 10675.897 | F34: =Данные!F30 -> 3190.4242 | G34: =Данные!G30 -> 0 | H34: =Данные!H30 -> 0 | ... J34: =Данные!J30 -> 0
A35: =Данные!A31 -> 11 | B35: =Данные!B31 -> 43123 | C35: =Данные!C31 -> 2076.4903 | D35: =Данные!D31 -> 4821.2033 | E35: =Данные!E31 -> 9242.0089 | F35: =Данные!F31 -> 3518.2 | G35: =Данные!G31 -> 0 | H35: =Данные!H31 -> 0 | ... J35: =Данные!J31 -> 0
A36: =Данные!A32 -> 12 | B36: =Данные!B32 -> 43124 | C36: =Данные!C32 -> 3351.0461 | D36: =Данные!D32 -> 8130.7581 | E36: =Данные!E32 -> 13950.381 | F36: =Данные!F32 -> 2860.5833 | G36: =Данные!G32 -> 0 | H36: =Данные!H32 -> 0 | ... J36: =Данные!J32 -> 0
A37: =Данные!A33 -> 13 | B37: =Данные!B33 -> 43125 | C37: =Данные!C33 -> 1792.5789 | D37: =Данные!D33 -> 6347.0892 | E37: =Данные!E33 -> 8892.0195 | F37: =Данные!F33 -> 3389.4091 | G37: =Данные!G33 -> 0 | H37: =Данные!H33 -> 0 | ... J37: =Данные!J33 -> 0
... A40: =Данные!A36 -> 16 | B40: =Данные!B36 -> 43128 | C40: =Данные!C36 -> 1333.0586 | D40: =Данные!D36 -> 3012.7587 | E40: =Данные!E36 -> 6893.3197 | F40: =Данные!F36 -> 3555.25 | G40: =Данные!G36 -> 0 | H40: =Данные!H36 -> 22.1008 | ... J40: =Данные!J36 -> 0
A41: Q1 | B41: - | C41: =QUARTILE(C25:C40,1) -> 1397.9438 | D41: =QUARTILE(D25:D40,1) -> 4214.6373 | E41: =QUARTILE(E25:E40,1) -> 8928.2905 | F41: =QUARTILE(F25:F40,1) -> 3020.6708
A42: Q2 | B42: - | C42: =QUARTILE(C25:C40,2) -> 1846.8202 | D42: =QUARTILE(D25:D40,2) -> 5384.0999 | E42: =QUARTILE(E25:E40,2) -> 9758.1159 | F42: =QUARTILE(F25:F40,2) -> 3203.2314
A43: Q3 | B43: - | C43: =QUARTILE(C25:C40,3) -> 2076.8169 | D43: =QUARTILE(D25:D40,3) -> 5719.4328 | E43: =QUARTILE(E25:E40,3) -> 10772.621 | F43: =QUARTILE(F25:F40,3) -> 3421.6068
A44: IRQ | B44: - | C44: =C43-C41 -> 678.8731 | D44: =D43-D41 -> 1504.7955 | E44: =E43-E41 -> 1844.3303 | F44: =F43-F41 -> 400.93605
A45: Спутник | B45: =Данные!B37 -> 16 | C45: Зона | D45: =Данные!D37 -> 2494.5947 | E45: км | G45: Отклонение, %
A46: № | C46: H-He | D46: О2 | E46: E | F46: Etemp | G46: H-He | H46: О2 | I46: E | J46: Etemp
A47: =Данные!A39 -> 1 | B47: =Данные!B39 -> 43113 | C47: =Данные!C39 -> 3414.3345 | D47: =Данные!D39 -> 2208.5999 | E47: =Данные!E39 -> 3959.4636 | F47: =Данные!F39 -> 3115.3348 | G47: =Данные!G39 -> 0 | H47: =Данные!H39 -> 0 | ... J47: =Данные!J39 -> 0
A48: =Данные!A40 -> 2 | B48: =Данные!B40 -> 43114 | C48: =Данные!C40 -> 4186.385 | D48: =Данные!D40 -> 2488.7644 | E48: =Данные!E40 -> 4215.9708 | F48: =Данные!F40 -> 3094.8706 | G48: =Данные!G40 -> 0 | H48: =Данные!H40 -> 0 | ... J48: =Данные!J40 -> 0
A49: =Данные!A41 -> 3 | B49: =Данные!B41 -> 43115 | C49: =Данные!C41 -> 3465.3074 | D49: =Данные!D41 -> 1574.8797 | E49: =Данные!E41 -> 3356.7712 | F49: =Данные!F41 -> 3137.2601 | G49: =Данные!G41 -> 0 | H49: =Данные!H41 -> 0 | ... J49: =Данные!J41 -> 0
A50: =Данные!A42 -> 4 | B50: =Данные!B42 -> 43116 | C50: =Данные!C42 -> 3802.9271 | D50: =Данные!D42 -> 1321.8151 | E50: =Данные!E42 -> 3070.551 | F50: =Данные!F42 -> 3121.4023 | G50: =Данные!G42 -> 0 | H50: =Данные!H42 -> 0 | ... J50: =Данные!J42 -> 0
A51: =Данные!A43 -> 5 | B51: =Данные!B43 -> 43117 | C51: =Данные!C43 -> 3652.4425 | D51: =Данные!D43 -> 1592.7936 | E51: =Данные!E43 -> 3239.0223 | F51: =Данные!F43 -> 3483.0326 | G51: =Данные!G43 -> 0 | H51: =Данные!H43 -> 0 | ... J51: =Данные!J43 -> 0
A52: =Данные!A44 -> 6 | B52: =Данные!B44 -> 43118 | C52: =Данные!C44 -> 3868.5097 | D52: =Данные!D44 -> 1855.0588 | E52: =Данные!E44 -> 3664.1632 | F52: =Данные!F44 -> 3366.901 | G52: =Данные!G44 -> 0 | H52: =Данные!H44 -> 0 | ... J52: =Данные!J44 -> 0
A53: =Данные!A45 -> 7 | B53: =Данные!B45 -> 43119 | C53: =Данные!C45 -> 3671.7522 | D53: =Данные!D45 -> 2034.3165 | E53: =Данные!E45 -> 3871.0524 | F53: =Данные!F45 -> 3122.9598 | G53: =Данные!G45 -> 0 | H53: =Данные!H45 -> 0 | ... J53: =Данные!J45 -> 0
A54: =Данные!A46 -> 8 | B54: =Данные!B46 -> 43120 | C54: =Данные!C46 -> 3231.6765 | D54: =Данные!D46 -> 2144.9521 | E54: =Данные!E46 -> 3707.5643 | F54: =Данные!F46 -> 3188.7864 | G54: =Данные!G46 -> 0 | H54: =Данные!H46 -> 0 | ... J54: =Данные!J46 -> 0
A55: =Данные!A47 -> 9 | B55: =Данные!B47 -> 43121 | C55: =Данные!C47 -> 3157.3405 | D55: =Данные!D47 -> 2546.1661 | E55: =Данные!E47 -> 3997.9786 | F55: =Данные!F47 -> 3071.3177 | G55: =Данные!G47 -> 0 | H55: =Данные!H47 -> 0 | ... J55: =Данные!J47 -> 0
A56: =Данные!A48 -> 10 | B56: =Данные!B48 -> 43122 | C56: =Данные!C48 -> 5209.713 | D56: =Данные!D48 -> 2571.2966 | E56: =Данные!E48 -> 4448.9501 | F56: =Данные!F48 -> 3216.7595 | G56: =Данные!G48 -> 0 | H56: =Данные!H48 -> 0 | ... J56: =Данные!J48 -> 0
A57: =Данные!A49 -> 11 | B57: =Данные!B49 -> 43123 | C57: =Данные!C49 -> 3848.7508 | D57: =Данные!D49 -> 1584.1688 | E57: =Данные!E49 -> 3353.4427 | F57: =Данные!F49 -> 3280.1986 | G57: =Данные!G49 -> 0 | H57: =Данные!H49 -> 0 | ... J57: =Данные!J49 -> 0
A58: =Данные!A50 -> 12 | B58: =Данные!B50 -> 43124 | C58: =Данные!C50 -> 3754.5892 | D58: =Данные!D50 -> 2903.0943 | E58: =Данные!E50 -> 4427.0291 | F58: =Данные!F50 -> 3039.4879 | G58: =Данные!G50 -> 0 | H58: =Данные!H50 -> 0 | ... J58: =Данные!J50 -> 0
... A62: =Данные!A54 -> 16 | B62: =Данные!B54 -> 43128 | C62: =Данные!C54 -> 3435.0142 | D62: =Данные!D54 -> 2412.7892 | E62: =Данные!E54 -> 3920.1017 | F62: =Данные!F54 -> 3134.0737 | G62: =Данные!G54 -> 0 | H62: =Данные!H54 -> 0 | ... J62: =Данные!J54 -> 0
A63: Q1 | B63: - | C63: =QUARTILE(C47:C62,1) -> 3429.8443 | D63: =QUARTILE(D47:D62,1) -> 1789.4925 | E63: =QUARTILE(E47:E62,1) -> 3587.3152 | F63: =QUARTILE(F47:F62,1) -> 3089.6043
A64: Q2 | B64: - | C64: =QUARTILE(C47:C62,2) -> 3713.1707 | D64: =QUARTILE(D47:D62,2) -> 2209.3158 | E64: =QUARTILE(E47:E62,2) -> 3895.577 | F64: =QUARTILE(F47:F62,2) -> 3127.4785
A65: Q3 | B65: - | C65: =QUARTILE(C47:C62,3) -> 3903.0734 | D65: =QUARTILE(D47:D62,3) -> 2552.4487 | E65: =QUARTILE(E47:E62,3) -> 4268.7354 | F65: =QUARTILE(F47:F62,3) -> 3195.7797
A66: IRQ | B66: - | C66: =C65-C63 -> 473.22917 | D66: =D65-D63 -> 762.95623 | E66: =E65-E63 -> 681.42018 | F66: =F65-F63 -> 106.17542
A67: Спутник | B67: =Данные!B55 -> 16 | C67: Зона | D67: =Данные!D55 -> 1000 | E67: км | G67: Отклонение, %
A68: № | C68: H-He | D68: О2 | E68: E | F68: Etemp | G68: H-He | H68: О2 | I68: E | J68: Etemp
A69: =Данные!A57 -> 1 | B69: =Данные!B57 -> 43113 | C69: =Данные!C57 -> 3325.757 | D69: =Данные!D57 -> 1623.8039 | E69: =Данные!E57 -> 3159.175 | F69: =Данные!F57 -> 3207.4179 | G69: =Данные!G57 -> 0 | H69: =Данные!H57 -> 0 | ... J69: =Данные!J57 -> 0
A70: =Данные!A58 -> 2 | B70: =Данные!B58 -> 43114 | C70: =Данные!C58 -> 4200.807 | D70: =Данные!D58 -> 2618.84 | E70: =Данные!E58 -> 4024.9915 | F70: =Данные!F58 -> 3169.3158 | G70: =Данные!G58 -> 0 | H70: =Данные!H58 -> 0 | ... J70: =Данные!J58 -> 0
A71: =Данные!A59 -> 3 | B71: =Данные!B59 -> 43115 | C71: =Данные!C59 -> 3361.3714 | D71: =Данные!D59 -> 1815.8295 | E71: =Данные!E59 -> 3132.8126 | F71: =Данные!F59 -> 3108.3303 | G71: =Данные!G59 -> 0 | H71: =Данные!H59 -> 0 | ... J71: =Данные!J59 -> 0
A72: =Данные!A60 -> 4 | B72: =Данные!B60 -> 43116 | C72: =Данные!C60 -> 6279.7574 | D72: =Данные!D60 -> 176.0214 | E72: =Данные!E60 -> 2735.4668 | F72: =Данные!F60 -> 2681.8063 | G72: =Данные!G60 -> 0 | H72: =Данные!H60 -> 111.4319 | ... J72: =Данные!J60 -> 189.6073
A73: =Данные!A61 -> 5 | B73: =Данные!B61 -> 43117 | C73: =Данные!C61 -> 3937.7205 | D73: =Данные!D61 -> 1430.1571 | E73: =Данные!E61 -> 3102.7072 | F73: =Данные!F61 -> 3136.5435 | G73: =Данные!G61 -> 0 | H73: =Данные!H61 -> 0 | ... J73: =Данные!J61 -> 0
A74: =Данные!A62 -> 6 | B74: =Данные!B62 -> 43118 | C74: =Данные!C62 -> 4056.6548 | D74: =Данные!D62 -> 1436.9402 | E74: =Данные!E62 -> 3213.3543 | F74: =Данные!F62 -> 3221.2188 | G74: =Данные!G62 -> 0 | H74: =Данные!H62 -> 0 | ... J74: =Данные!J62 -> 0
A75: =Данные!A63 -> 7 | B75: =Данные!B63 -> 43119 | C75: =Данные!C63 -> 4782.249 | D75: =Данные!D63 -> 940.3902 | E75: =Данные!E63 -> 3147.029 | F75: =Данные!F63 -> 3081.2973 | G75: =Данные!G63 -> 0 | H75: =Данные!H63 -> 11.1317 | ... J75: =Данные!J63 -> 0
A76: =Данные!A64 -> 8 | B76: =Данные!B64 -> 43120 | C76: =Данные!C64 -> 3025.0191 | D76: =Данные!D64 -> 1758.7795 | E76: =Данные!E64 -> 3082.1392 | F76: =Данные!F64 -> 3224.0288 | G76: =Данные!G64 -> 0 | H76: =Данные!H64 -> 0 | ... J76: =Данные!J64 -> 0
A77: =Данные!A65 -> 9 | B77: =Данные!B65 -> 43121 | C77: =Данные!C65 -> 2533.4993 | D77: =Данные!D65 -> 2084.303 | E77: =Данные!E65 -> 3139.9775 | F77: =Данные!F65 -> 3260.5302 | G77: =Данные!G65 -> 0 | H77: =Данные!H65 -> 0 | ... J77: =Данные!J65 -> 0
A78: =Данные!A66 -> 10 | B78: =Данные!B66 -> 43122 | C78: =Данные!C66 -> 4891.5183 | D78: =Данные!D66 -> 2592.9049 | E78: =Данные!E66 -> 4028.3768 | F78: =Данные!F66 -> 3092.8227 | G78: =Данные!G66 -> 0 | H78: =Данные!H66 -> 0 | ... J78: =Данные!J66 -> 0
A79: =Данные!A67 -> 11 | B79: =Данные!B67 -> 43123 | C79: =Данные!C67 -> 2524.8653 | D79: =Данные!D67 -> 2050.2789 | E79: =Данные!E67 -> 2856.7069 | F79: =Данные!F67 -> 3247.2518 | G79: =Данные!G67 -> 0 | H79: =Данные!H67 -> 0 | ... J79: =Данные!J67 -> 0
A80: =Данные!A68 -> 12 | B80: =Данные!B68 -> 43124 | C80: =Данные!C68 -> 3045.9627 | D80: =Данные!D68 -> 1837.5122 | E80: =Данные!E68 -> 2986.3981 | F80: =Данные!F68 -> 3175.7002 | G80: =Данные!G68 -> 0 | H80: =Данные!H68 -> 0 | ... J80: =Данные!J68 -> 0
... A84: =Данные!A72 -> 16 | B84: =Данные!B72 -> 43128 | C84: =Данные!C72 -> 2510.8312 | D84: =Данные!D72 -> 2135.1267 | E84: =Данные!E72 -> 3150.8042 | F84: =Данные!F72 -> 3379.6548 | G84: =Данные!G72 -> 0 | H84: =Данные!H72 -> 0 | ... J84: =Данные!J72 -> 0
A85: Q1 | B85: - | C85: =QUARTILE(C69:C84,1) -> 3033.8485 | D85: =QUARTILE(D69:D84,1) -> 1493.5003 | E85: =QUARTILE(E69:E84,1) -> 3082.2029 | F85: =QUARTILE(F69:F84,1) -> 3089.9414
A86: Q2 | B86: - | C86: =QUARTILE(C69:C84,2) -> 3377.8265 | D86: =QUARTILE(D69:D84,2) -> 1787.3045 | E86: =QUARTILE(E69:E84,2) -> 3143.5032 | F86: =QUARTILE(F69:F84,2) -> 3152.9297
A87: Q3 | B87: - | C87: =QUARTILE(C69:C84,3) -> 4092.6928 | D87: =QUARTILE(D69:D84,3) -> 2097.0089 | E87: =QUARTILE(E69:E84,3) -> 3200.5901 | F87: =QUARTILE(F69:F84,3) -> 3221.9213
A88: IRQ | B88: - | C88: =C87-C85 -> 1058.8444 | D88: =D87-D85 -> 603.50868 | E88: =E87-E85 -> 118.3871 | F88: =F87-F85 -> 131.97995
A89: Спутник | B89: =Данные!B73 -> 17 | C89: Зона | D89: =Данные!D73 -> 2494.5947 | E89: км | G89: Отклонение, %
A90: № | C90: H-He | D90: О2 | E90: E | F90: Etemp | G90: H-He | H90: О2 | I90: E | J90: Etemp
A91: =Данные!A75 -> 1 | B91: =Данные!B75 -> 43113 | C91: =Данные!C75 -> 2616.3817 | D91: =Данные!D75 -> 1461.1231 | E91: =Данные!E75 -> 2213.3125 | F91: =Данные!F75 -> 4506.9199 | G91: =Данные!G75 -> 0 | H91: =Данные!H75 -> 0 | ... J91: =Данные!J75 -> 0
A92: =Данные!A76 -> 2 | B92: =Данные!B76 -> 43114 | C92: =Данные!C76 -> 4200.6407 | D92: =Данные!D76 -> 3044.2703 | E92: =Данные!E76 -> 3513.9122 | F92: =Данные!F76 -> 4126.5664 | G92: =Данные!G76 -> 0 | H92: =Данные!H76 -> 0 | ... J92: =Данные!J76 -> 0
A93: =Данные!A77 -> 3 | B93: =Данные!B77 -> 43115 | C93: =Данные!C77 -> 3106.1255 | D93: =Данные!D77 -> 793.734 | E93: =Данные!E77 -> 1991.1299 | F93: =Данные!F77 -> 4643.2147 | G93: =Данные!G77 -> 0 | H93: =Данные!H77 -> 0 | ... J93: =Данные!J77 -> 0
A94: =Данные!A78 -> 4 | B94: =Данные!B78 -> 43116 | C94: =Данные!C78 -> 3168.1387 | D94: =Данные!D78 -> 1225.0449 | E94: =Данные!E78 -> 2202.4094 | F94: =Данные!F78 -> 4541.7967 | G94: =Данные!G78 -> 0 | H94: =Данные!H78 -> 0 | ... J94: =Данные!J78 -> 0
A95: =Данные!A79 -> 5 | B95: =Данные!B79 -> 43117 | C95: =Данные!C79 -> 3382.9585 | D95: =Данные!D79 -> 888.7228 | E95: =Данные!E79 -> 2187.4557 | F95: =Данные!F79 -> 4685.6008 | G95: =Данные!G79 -> 0 | H95: =Данные!H79 -> 0 | ... J95: =Данные!J79 -> 0
A96: =Данные!A80 -> 6 | B96: =Данные!B80 -> 43118 | C96: =Данные!C80 -> 4039.992 | D96: =Данные!D80 -> 1074.7478 | E96: =Данные!E80 -> 2898.4881 | F96: =Данные!F80 -> 4500.9065 | G96: =Данные!G80 -> 0 | H96: =Данные!H80 -> 0 | ... J96: =Данные!J80 -> 0
A97: =Данные!A81 -> 7 | B97: =Данные!B81 -> 43119 | C97: =Данные!C81 -> 3504.7934 | D97: =Данные!D81 -> 1721.1467 | E97: =Данные!E81 -> 2998.5475 | F97: =Данные!F81 -> 4186.4867 | G97: =Данные!G81 -> 0 | H97: =Данные!H81 -> 0 | ... J97: =Данные!J81 -> 0
A98: =Данные!A82 -> 8 | B98: =Данные!B82 -> 43120 | C98: =Данные!C82 -> 2922.5431 | D98: =Данные!D82 -> 1251.5275 | E98: =Данные!E82 -> 2276.451 | F98: =Данные!F82 -> 4164.9433 | G98: =Данные!G82 -> 0 | H98: =Данные!H82 -> 0 | ... J98: =Данные!J82 -> 0
A99: =Данные!A83 -> 9 | B99: =Данные!B83 -> 43121 | C99: =Данные!C83 -> 2602.1256 | D99: =Данные!D83 -> 1193.529 | E99: =Данные!E83 -> 2165.391 | F99: =Данные!F83 -> 4384.3103 | G99: =Данные!G83 -> 0 | H99: =Данные!H83 -> 0 | ... J99: =Данные!J83 -> 0
A100: =Данные!A84 -> 10 | B100: =Данные!B84 -> 43122 | C100: =Данные!C84 -> 4292.3064 | D100: =Данные!D84 -> 1050.3959 | E100: =Данные!E84 -> 2970.3643 | F100: =Данные!F84 -> 4372.6177 | G100: =Данные!G84 -> 0 | H100: =Данные!H84 -> 0 | ... J100: =Данные!J84 -> 0
A101: =Данные!A85 -> 11 | B101: =Данные!B85 -> 43123 | C101: =Данные!C85 -> 3294.3385 | D101: =Данные!D85 -> 918.29 | E101: =Данные!E85 -> 1916.8465 | F101: =Данные!F85 -> 4597.2995 | G101: =Данные!G85 -> 0 | H101: =Данные!H85 -> 0 | ... J101: =Данные!J85 -> 0
A102: =Данные!A86 -> 12 | B102: =Данные!B86 -> 43124 | C102: =Данные!C86 -> 3223.4904 | D102: =Данные!D86 -> 1210.4207 | E102: =Данные!E86 -> 2637.0038 | F102: =Данные!F86 -> 4301.6119 | G102: =Данные!G86 -> 0 | H102: =Данные!H86 -> 0 | ... J102: =Данные!J86 -> 0
... A106: =Данные!A90 -> 16 | B106: =Данные!B90 -> 43128 | C106: =Данные!C90 -> 2800.4583 | D106: =Данные!D90 -> 1308.3012 | E106: =Данные!E90 -> 2333.7167 | F106: =Данные!F90 -> 4197.6851 | G106: =Данные!G90 -> 0 | H106: =Данные!H90 -> 0 | ... J106: =Данные!J90 -> 0
A107: Q1 | B107: - | C107: =QUARTILE(C91:C106,1) -> 2892.0219 | D107: =QUARTILE(D91:D106,1) -> 1068.6598 | E107: =QUARTILE(E91:E106,1) -> 2198.671 | F107: =QUARTILE(F91:F106,1) -> 4181.1009
A108: Q2 | B108: - | C108: =QUARTILE(C91:C106,2) -> 3258.9145 | D108: =QUARTILE(D91:D106,2) -> 1238.2862 | E108: =QUARTILE(E91:E106,2) -> 2305.0838 | F108: =QUARTILE(F91:F106,2) -> 4337.1148
A109: Q3 | B109: - | C109: =QUARTILE(C91:C106,3) -> 3638.593 | D109: =QUARTILE(D91:D106,3) -> 1474.1202 | E109: =QUARTILE(E91:E106,3) -> 2916.4572 | F109: =QUARTILE(F91:F106,3) -> 4515.6391
A110: IRQ | B110: - | C110: =C109-C107 -> 746.57115 | D110: =D109-D107 -> 405.46042 | E110: =E109-E107 -> 717.78618 | F110: =F109-F107 -> 334.53825
A111: Спутник | B111: =Данные!B91 -> 17 | C111: Зона | D111: =Данные!D91 -> 1000 | E111: км | G111: Отклонение, %
...

Sheet Данные
A1: F= | B1: 15 | C1: R= | D1: 2494.5947
A2: N | B2: Date | C2: H-He+ | D2: O2 | E2: E | F2: E_temp | G2: Limit(H-He+) | H2: Limit(O2) | I2: Limit(E) | J2: Limit(E_temp)
A3: 1 | B3: 43113 | C3: 2244.9024 | D3: 3921.7325 | E3: 10259.743 | F3: 3047.4751 | G3: 0 | H3: 0 | I3: 0 | J3: 0
A4: 2 | B4: 43114 | C4: 2156.4929 | D4: 3665.7745 | E4: 10971.306 | F4: 3063.9567 | G4: 0 | H4: 0 | I4: 0 | J4: 0
A5: 3 | B5: 43115 | C5: 2008.8754 | D5: 4288.5817 | E5: 9564.4511 | F5: 3084.5981 | G5: 0 | H5: 0 | I5: 0 | J5: 0
A6: 4 | B6: 43116 | C6: 2063.3039 | D6: 3856.897 | E6: 9782.8573 | F6: 3426.8708 | G6: 0 | H6: 0 | I6: 0 | J6: 0
A7: 5 | B7: 43117 | C7: 2256.1997 | D7: 4237.4455 | E7: 10258.911 | F7: 3679.7531 | G7: 0 | H7: 0 | I7: 0 | J7: 0
A8: 6 | B8: 43118 | C8: 3036.8328 | D8: 4343.8438 | E8: 12275.633 | F8: 3191.5789 | G8: 0 | H8: 0 | I8: 0 | J8: 0
A9: 7 | B9: 43119 | C9: 3180.3419 | D9: 4080.2705 | E9: 10828.047 | F9: 3142.0962 | G9: 0 | H9: 0 | I9: 0 | J9: 0
A10: 8 | B10: 43120 | C10: 2057.1208 | D10: 3897.6486 | E10: 9679.7374 | F10: 3242.1244 | G10: 0 | H10: 0 | I10: 0 | J10: 0
A11: 9 | B11: 43121 | C11: 2513.787 | D11: 4182.7658 | E11: 10352.522 | F11: 3326.972 | G11: 0 | H11: 0 | I11: 0 | J11: 0
A12: 10 | B12: 43122 | C12: 2668.711 | D12: 5121.19 | E12: 12664.03 | F12: 3623.6822 | G12: 0 | H12: 0 | I12: 0 | J12: 0
A13: 11 | B13: 43123 | C13: 3650.4905 | D13: 4650.347 | E13: 11132.904 | F13: 3675.8515 | G13: 0 | H13: 0 | I13: 0 | J13: 0
A14: 12 | B14: 43124 | C14: 3414.0345 | D14: 6292.7062 | E14: 14697.707 | F14: 2907.4827 | G14: 0 | H14: 0 | I14: 0 | J14: 0
... A18: 16 | B18: 43128 | C18: 1628.9823 | D18: 3903.3949 | E18: 10089.555 | F18: 3662.4725 | G18: 0 | H18: 0 | I18: 0 | J18: 0
A19: F= | B19: 15 | C19: R= | D19: 1000
A20: N | B20: Date | C20: H-He+ | D20: O2 | E20: E | F20: E_temp | G20: Limit(H-He+) | H20: Limit(O2) | I20: Limit(E) | J20: Limit(E_temp)
A21: 1 | B21: 43113 | C21: 1419.5722 | D21: 5532.9494 | E21: 10378.373 | F21: 2829.9643 | G21: 0 | H21: 0 | I21: 0 | J21: 0
A22: 2 | B22: 43114 | C22: 508.2833 | D22: 3949.2933 | E22: 11062.793 | F22: 3071.92 | G22: 59.1613 | H22: 0 | I22: 0 | J22: 0
A23: 3 | B23: 43115 | C23: 1881.2356 | D23: 5512.6959 | E23: 10268.474 | F23: 3133.5556 | G23: 0 | H23: 0 | I23: 0 | J23: 0
A24: 4 | B24: 43116 | C24: 2209.1568 | D24: 4164.7607 | E24: 9058.8965 | F24: 3282.4 | G24: 0 | H24: 0 | I24: 0 | J24: 0
A25: 5 | B25: 43117 | C25: 2400.9428 | D25: 5255.5039 | E25: 11345.336 | F25: 3584.4651 | G25: 0 | H25: 0 | I25: 0 | J25: 0
A26: 6 | B26: 43118 | C26: 1808.2767 | D26: 6010.4639 | E26: 12793.452 | F26: 3101.1034 | G26: 0 | H26: 0 | I26: 0 | J26: 0
A27: 7 | B27: 43119 | C27: 1041.0243 | D27: 4284.4569 | E27: 10274.535 | F27: 2840.5714 | G27: 0 | H27: 0 | I27: 0 | J27: 0
A28: 8 | B28: 43120 | C28: 207.785 | D28: 4231.2628 | E28: 8477.1826 | F28: 2866.9231 | G28: 94.8927 | H28: 0 | I28: 0 | J28: 0
A29: 9 | B29: 43121 | C29: 2077.7967 | D29: 3896.8519 | E29: 7335.0973 | F29: 3327.8857 | G29: 0 | H29: 0 | I29: 3.3811 | J29: 0
A30: 10 | B30: 43122 | C30: 2051.2492 | D30: 6137.4306 | E30: 10675.897 | F30: 3190.4242 | G30: 0 | H30: 0 | I30: 0 | J30: 0
A31: 11 | B31: 43123 | C31: 2076.4903 | D31: 4821.2033 | E31: 9242.0089 | F31: 3518.2 | G31: 0 | H31: 0 | I31: 0 | J31: 0
A32: 12 | B32: 43124 | C32: 3351.0461 | D32: 8130.7581 | E32: 13950.381 | F32: 2860.5833 | G32: 0 | H32: 0 | I32: 0 | J32: 0
... A36: 16 | B36: 43128 | C36: 1333.0586 | D36: 3012.7587 | E36: 6893.3197 | F36: 3555.25 | G36: 0 | H36: 22.1008 | I36: 22.2301 | J36: 0
A37: F= | B37: 16 | C37: R= | D37: 2494.5947
A38: N | B38: Date | C38: H-He+ | D38: O2 | E38: E | F38: E_temp | G38: Limit(H-He+) | H38: Limit(O2) | I38: Limit(E) | J38: Limit(E_temp)
A39: 1 | B39: 43113 | C39: 3414.3345 | D39: 2208.5999 | E39: 3959.4636 | F39: 3115.3348 | G39: 0 | H39: 0 | I39: 0 | J39: 0
A40: 2 | B40: 43114 | C40: 4186.385 | D40: 2488.7644 | E40: 4215.9708 | F40: 3094.8706 | G40: 0 | H40: 0 | I40: 0 | J40: 0
A41: 3 | B41: 43115 | C41: 3465.3074 | D41: 1574.8797 | E41: 3356.7712 | F41: 3137.2601 | G41: 0 | H41: 0 | I41: 0 | J41: 0
A42: 4 | B42: 43116 | C42: 3802.9271 | D42: 1321.8151 | E42: 3070.551 | F42: 3121.4023 | G42: 0 | H42: 0 | I42: 0 | J42: 0
A43: 5 | B43: 43117 | C43: 3652.4425 | D43: 1592.7936 | E43: 3239.0223 | F43: 3483.0326 | G43: 0 | H43: 0 | I43: 0 | J43: 0
A44: 6 | B44: 43118 | C44: 3868.5097 | D44: 1855.0588 | E44: 3664.1632 | F44: 3366.901 | G44: 0 | H44: 0 | I44: 0 | J44: 0
A45: 7 | B45: 43119 | C45: 3671.7522 | D45: 2034.3165 | E45: 3871.0524 | F45: 3122.9598 | G45: 0 | H45: 0 | I45: 0 | J45: 0
A46: 8 | B46: 43120 | C46: 3231.6765 | D46: 2144.9521 | E46: 3707.5643 | F46: 3188.7864 | G46: 0 | H46: 0 | I46: 0 | J46: 0
A47: 9 | B47: 43121 | C47: 3157.3405 | D47: 2546.1661 | E47: 3997.9786 | F47: 3071.3177 | G47: 0 | H47: 0 | I47: 0 | J47: 0
A48: 10 | B48: 43122 | C48: 5209.713 | D48: 2571.2966 | E48: 4448.9501 | F48: 3216.7595 | G48: 0 | H48: 0 | I48: 0 | J48: 0
A49: 11 | B49: 43123 | C49: 3848.7508 | D49: 1584.1688 | E49: 3353.4427 | F49: 3280.1986 | G49: 0 | H49: 0 | I49: 0 | J49: 0
A50: 12 | B50: 43124 | C50: 3754.5892 | D50: 2903.0943 | E50: 4427.0291 | F50: 3039.4879 | G50: 0 | H50: 0 | I50: 0 | J50: 0
... A54: 16 | B54: 43128 | C54: 3435.0142 | D54: 2412.7892 | E54: 3920.1017 | F54: 3134.0737 | G54: 0 | H54: 0 | I54: 0 | J54: 0
A55: F= | B55: 16 | C55: R= | D55: 1000
A56: N | B56: Date | C56: H-He+ | D56: O2 | E56: E | F56: E_temp | G56: Limit(H-He+) | H56: Limit(O2) | I56: Limit(E) | J56: Limit(E_temp)
A57: 1 | B57: 43113 | C57: 3325.757 | D57: 1623.8039 | E57: 3159.175 | F57: 3207.4179 | G57: 0 | H57: 0 | I57: 0 | J57: 0
A58: 2 | B58: 43114 | C58: 4200.807 | D58: 2618.84 | E58: 4024.9915 | F58: 3169.3158 | G58: 0 | H58: 0 | I58: 0 | J58: 0
A59: 3 | B59: 43115 | C59: 3361.3714 | D59: 1815.8295 | E59: 3132.8126 | F59: 3108.3303 | G59: 0 | H59: 0 | I59: 0 | J59: 0
A60: 4 | B60: 43116 | C60: 6279.7574 | D60: 176.0214 | E60: 2735.4668 | F60: 2681.8063 | G60: 0 | H60: 111.4319 | I60: 177.2067 | J60: 189.6073
A61: 5 | B61: 43117 | C61: 3937.7205 | D61: 1430.1571 | E61: 3102.7072 | F61: 3136.5435 | G61: 0 | H61: 0 | I61: 0 | J61: 0
A62: 6 | B62: 43118 | C62: 4056.6548 | D62: 1436.9402 | E62: 3213.3543 | F62: 3221.2188 | G62: 0 | H62: 0 | I62: 0 | J62: 0
A63: 7 | B63: 43119 | C63: 4782.249 | D63: 940.3902 | E63: 3147.029 | F63: 3081.2973 | G63: 0 | H63: 11.1317 | I63: 0 | J63: 0
A64: 8 | B64: 43120 | C64: 3025.0191 | D64: 1758.7795 | E64: 3082.1392 | F64: 3224.0288 | G64: 0 | H64: 0 | I64: 0 | J64: 0
A65: 9 | B65: 43121 | C65: 2533.4993 | D65: 2084.303 | E65: 3139.9775 | F65: 3260.5302 | G65: 0 | H65: 0 | I65: 0 | J65: 0
A66: 10 | B66: 43122 | C66: 4891.5183 | D66: 2592.9049 | E66: 4028.3768 | F66: 3092.8227 | G66: 0 | H66: 0 | I66: 0 | J66: 0
A67: 11 | B67: 43123 | C67: 2524.8653 | D67: 2050.2789 | E67: 2856.7069 | F67: 3247.2518 | G67: 0 | H67: 0 | I67: 94.8402 | J67: 0
A68: 12 | B68: 43124 | C68: 3045.9627 | D68: 1837.5122 | E68: 2986.3981 | F68: 3175.7002 | G68: 0 | H68: 0 | I68: 6.7321 | J68: 0
... A72: 16 | B72: 43128 | C72: 2510.8312 | D72: 2135.1267 | E72: 3150.8042 | F72: 3379.6548 | G72: 0 | H72: 0 | I72: 0 | J72: 0
A73: F= | B73: 17 | C73: R= | D73: 2494.5947
A74: N | B74: Date | C74: H-He+ | D74: O2 | E74: E | F74: E_temp | G74: Limit(H-He+) | H74: Limit(O2) | I74: Limit(E) | J74: Limit(E_temp)
A75: 1 | B75: 43113 | C75: 2616.3817 | D75: 1461.1231 | E75: 2213.3125 | F75: 4506.9199 | G75: 0 | H75: 0 | I75: 0 | J75: 0
A76: 2 | B76: 43114 | C76: 4200.6407 | D76: 3044.2703 | E76: 3513.9122 | F76: 4126.5664 | G76: 0 | H76: 0 | I76: 0 | J76: 0
A77: 3 | B77: 43115 | C77: 3106.1255 | D77: 793.734 | E77: 1991.1299 | F77: 4643.2147 | G77: 0 | H77: 0 | I77: 0 | J77: 0
A78: 4 | B78: 43116 | C78: 3168.1387 | D78: 1225.0449 | E78: 2202.4094 | F78: 4541.7967 | G78: 0 | H78: 0 | I78: 0 | J78: 0
A79: 5 | B79: 43117 | C79: 3382.9585 | D79: 888.7228 | E79: 2187.4557 | F79: 4685.6008 | G79: 0 | H79: 0 | I79: 0 | J79: 0
A80: 6 | B80: 43118 | C80: 4039.992 | D80: 1074.7478 | E80: 2898.4881 | F80: 4500.9065 | G80: 0 | H80: 0 | I80: 0 | J80: 0
A81: 7 | B81: 43119 | C81: 3504.7934 | D81: 1721.1467 | E81: 2998.5475 | F81: 4186.4867 | G81: 0 | H81: 0 | I81: 0 | J81: 0
A82: 8 | B82: 43120 | C82: 2922.5431 | D82: 1251.5275 | E82: 2276.451 | F82: 4164.9433 | G82: 0 | H82: 0 | I82: 0 | J82: 0
A83: 9 | B83: 43121 | C83: 2602.1256 | D83: 1193.529 | E83: 2165.391 | F83: 4384.3103 | G83: 0 | H83: 0 | I83: 0 | J83: 0
A84: 10 | B84: 43122 | C84: 4292.3064 | D84: 1050.3959 | E84: 2970.3643 | F84: 4372.6177 | G84: 0 | H84: 0 | I84: 0 | J84: 0
A85: 11 | B85: 43123 | C85: 3294.3385 | D85: 918.29 | E85: 1916.8465 | F85: 4597.2995 | G85: 0 | H85: 0 | I85: 0 | J85: 0
A86: 12 | B86: 43124 | C86: 3223.4904 | D86: 1210.4207 | E86: 2637.0038 | F86: 4301.6119 | G86: 0 | H86: 0 | I86: 0 | J86: 0
... A90: 16 | B90: 43128 | C90: 2800.4583 | D90: 1308.3012 | E90: 2333.7167 | F90: 4197.6851 | G90: 0 | H90: 0 | I90: 0 | J90: 0
A91: F= | B91: 17 | C91: R= | D91: 1000
A92: N | B92: Date | C92: H-He+ | D92: O2 | E92: E | F92: E_temp | G92: Limit(H-He+) | H92: Limit(O2) | I92: Limit(E) | J92: Limit(E_temp)
A93: 1 | B93: 43113 | C93: 2499.223 | D93: 525.7247 | E93: 1591.2882 | F93: 4681.6538 | G93: 0 | H93: 0 | I93: 0 | J93: 0
A94: 2 | B94: 43114 | C94: 4021.7356 | D94: 1770.324 | E94: 3034.033 | F94: 4167.7462 | G94: 0 | H94: 0 | I94: 0 | J94: 0
A95: 3 | B95: 43115 | C95: 2990.2037 | D95: 825.2469 | E95: 2079.1257 | F95: 4959.6718 | G95: 0 | H95: 0 | I95: 0 | J95: 0
A96: 4 | B96: 43116 | C96: 3316.768 | D96: 1149.1402 | E96: 2250.2463 | F96: 4700.7909 | G96: 0 | H96: 0 | I96: 0 | J96: 0
A97: 5 | B97: 43117 | C97: 3347.6729 | D97: 1424.9754 | E97: 2466.1423 | F97: 4206.8691 | G97: 0 | H97: 0 | I97: 0 | J97: 0
A98: 6 | B98: 43118 | C98: 4673.9745 | D98: 1597.688 | E98: 3469.1773 | F98: 3631.0202 | G98: 0 | H98: 0 | I98: 0 | J98: 49.0275
A99: 7 | B99: 43119 | C99: 3781.3217 | D99: 1597.067 | E99: 2890.5234 | F99: 4174.7069 | G99: 0 | H99: 0 | I99: 0 | J99: 0
A100: 8 | B100: 43120 | C100: 2527.8574 | D100: 1097.3166 | E100: 1891.0544 | F100: 4621.9449 | G100: 0 | H100: 0 | I100: 0 | J100: 0
A101: 9 | B101: 43121 | C101: 2229.1017 | D101: 897.2052 | E101: 1740.3013 | F101: 4860.3348 | G101: 0 | H101: 0 | I101: 0 | J101: 0
A102: 10 | B102: 43122 | C102: 2606.3395 | D102: 975.6197 | E102: 1871.9399 | F102: 4569.8461 | G102: 0 | H102: 0 | I102: 0 | J102: 0
A103: 11 | B103: 43123 | C103: 2195.4683 | D103: 1118.2649 | E103: 1587.128 | F103: 4497.7258 | G103: 0 | H103: 0 | I103: 0 | J103: 0
A104: 12 | B104: 43124 | C104: 2142.7648 | D104: 1059.4735 | E104: 1771.8704 | F104: 4683.5256 | G104: 0 | H104: 0 | I104: 0 | J104: 0
... A108: 16 | B108: 43128 | C108: 2793.5271 | D108: 1496.0147 | E108: 2287.4938 | F108: 4523.3218 | G108: 0 | H108: 0 | I108: 0 | J108: 0
A109: F= | B109: 18 | C109: R= | D109: 2494.5947
A110: N | B110: Date | C110: H-He+ | D110: O2 | E110: E | F110: E_temp | G110: Limit(H-He+) | H110: Limit(O2) | I110: Limit(E) | J110: Limit(E_temp)
A111: 1 | B111: 43113 | C111: 2722.5806 | D111: 1813.0026 | E111: 164.89 | F111: 5958.8 | G111: 0 | H111: 0 | I111: 0 | J111: 0
A112: 2 | B112: 43114 | C112: 3810.4001 | D112: 3772.0231 | E112: 226.4819 | F112: 6224.41 | G112: 0 | H112: 0 | I112: 0 | J112: 0
A113: 3 | B113: 43115 | C113: 2894.0315 | D113: 1653.1993 | E113: 155.4556 | F113: 6362.3242 | G113: 0 | H113: 0 | I113: 0 | J113: 0
A114: 4 | B114: 43116 | C114: 3337.8041 | D114: 1422.6957 | E114: 113.6657 | F114: 5919 | G114: 0 | H114: 0 | I114: 0 | J114: 0
A115: 5 | B115: 43117 | C115: 3369.2485 | D115: 1238.0217 | E115: 62.938 | F115: 6771.3167 | G115: 0 | H115: 0 | I115: 0 | J115: 0
A116: 6 | B116: 43118 | C116: 3631.3517 | D116: 1361.6881 | E116: 264.0508 | F116: 5477.1143 | G116: 0 | H116: 0 | I116: 0 | J116: 0
A117: 7 | B117: 43119 | C117: 3436.6773 | D117: 2049.107 | E117: 35.234 | F117: 7653.8 | G117: 0 | H117: 0 | I117: 0 | J117: 0
A118: 8 | B118: 43120 | C118: 2926.5089 | D118: 1718.6344 | E118: 153.8875 | F118: 5949.4357 | G118: 0 | H118: 0 | I118: 0 | J118: 0
...
